BEGIN:VCALENDAR
VERSION:2.0
CALSCALE:GREGORIAN
PRODID:-//Diputació de Barcelona//DibaCMS//EN
BEGIN:VEVENT
UID:5207
DTSTAMP:20260423T004447
DTSTART:20250623T000000
DTEND:20250720T000000
SUMMARY:Encesa d’una nova antena de telefonia mòbil 4G y 5G al municipi
LOCATION:
METHOD:PUBLISH
X-WR-CALNAME:canovesisamalus@canovesisamalus.cat
X-WR-TIMEZONE:Europe/Madrid
DESCRIPTION:
	Les operadores de telefonia mòbil continuen desplegant al municipi els serveis mòbils de nova generació, 4G i 5G, en les bandes de 700 i 800MHz.
	La nova tecnologia permet gaudir de serveis de dades mòbils d’alta velocitat, millorarà la cobertura a l’interior dels edificis i ampliarà l’extensió geogràfica.
	Llega700 és l’entitat encarregada de garantir la compatibilitat d’aquest servei amb la TDT.


URI:https://www.canovesisamalus.cat/actualitat/noticies/encesa-duna-nova-antena-de-telefonia-mobil-4g-y-5g-al-municipi.html
CLASS:PUBLIC
END:VEVENT
END:VCALENDAR
