BEGIN:VCALENDAR
VERSION:2.0
CALSCALE:GREGORIAN
PRODID:-//Diputació de Barcelona//DibaCMS//EN
BEGIN:VEVENT
UID:5209
DTSTAMP:20260422T234502
DTSTART:20250627T000000
DTEND:20250721T000000
SUMMARY:El 19 i 20 de juliol torna la Fira del tomàquet a Santa Eulàlia de Ronçana
LOCATION:
METHOD:PUBLISH
X-WR-CALNAME:canovesisamalus@canovesisamalus.cat
X-WR-TIMEZONE:Europe/Madrid
DESCRIPTION:La 15a edició de la Fira del Tomàquet, organitzada per l'Ajuntament de Santa Eulàlia de Ronçana i el Consell Comarcal, arribarà el dissabte i diumenge 19 i 20 de juliol al Centre Cívic i Cultural La Fàbrica.

URI:https://www.canovesisamalus.cat/actualitat/noticies/el-19-i-20-de-juliol-torna-la-fira-del-tomaquet-a-santa-eulalia-de-roncana.html
CLASS:PUBLIC
END:VEVENT
END:VCALENDAR
