BEGIN:VCALENDAR
VERSION:2.0
CALSCALE:GREGORIAN
PRODID:-//Diputació de Barcelona//DibaCMS//EN
BEGIN:VEVENT
UID:5213
DTSTAMP:20260423T004910
DTSTART:20250630T000000
DTEND:20250730T000000
SUMMARY:Salut dona consells per a un estiu segur amb 'L'ABC de la calor'
LOCATION:
METHOD:PUBLISH
X-WR-CALNAME:canovesisamalus@canovesisamalus.cat
X-WR-TIMEZONE:Europe/Madrid
DESCRIPTION:Una campanya per conscienciar la ciutadania sobre les mesures de prevenció davant les altes temperatures.

URI:https://www.canovesisamalus.cat/actualitat/noticies/salut-dona-consells-per-a-un-estiu-segur-amb-labc-de-la-calor.html
CLASS:PUBLIC
END:VEVENT
END:VCALENDAR
