BEGIN:VCALENDAR
VERSION:2.0
CALSCALE:GREGORIAN
PRODID:-//Diputació de Barcelona//DibaCMS//EN
BEGIN:VEVENT
UID:5218
DTSTAMP:20260422T233731
DTSTART:20250703T000000
DTEND:20250802T000000
SUMMARY:Més de 6.400 alumnes han descobert el riu amb el programa educatiu de la Fundació RIVUS durant el curs 2024-2025 
LOCATION:
METHOD:PUBLISH
X-WR-CALNAME:canovesisamalus@canovesisamalus.cat
X-WR-TIMEZONE:Europe/Madrid
DESCRIPTION:‘Descobreix el riu’ ha comptat amb la participació d’un centenar de centres educatius de 36 municipis de les conques del Besòs i de la Tordera 

URI:https://www.canovesisamalus.cat/actualitat/noticies/mes-de-6400-alumnes-han-descobert-el-riu-amb-el-programa-educatiu-de-la-fundacio-rivus-durant-el-curs-2024-2025.html
CLASS:PUBLIC
END:VEVENT
END:VCALENDAR
