BEGIN:VCALENDAR
VERSION:2.0
CALSCALE:GREGORIAN
PRODID:-//Diputació de Barcelona//DibaCMS//EN
BEGIN:VEVENT
UID:522
DTSTAMP:20260422T193150
DTSTART:20170426T170000
DTEND:20170426T190000
SUMMARY:Xerrada: "El colesterol"
LOCATION:
METHOD:PUBLISH
X-WR-CALNAME:canovesisamalus@canovesisamalus.cat
X-WR-TIMEZONE:Europe/Madrid
DESCRIPTION:Què cal saber de la hipercolesterolèmia?
Vols que en parlem?

URI:https://www.canovesisamalus.cat/actualitat/agenda-municipal/xerrada-el-colesterol.html
CLASS:PUBLIC
END:VEVENT
END:VCALENDAR
