BEGIN:VCALENDAR
VERSION:2.0
CALSCALE:GREGORIAN
PRODID:-//Diputació de Barcelona//DibaCMS//EN
BEGIN:VEVENT
UID:5231
DTSTAMP:20260422T234620
DTSTART:20250730T000000
DTEND:20250822T000000
SUMMARY:La taula de governança de l’Hàbitats CoMBe es reuneix per fer seguiment de l’evolució del projecte
LOCATION:
METHOD:PUBLISH
X-WR-CALNAME:canovesisamalus@canovesisamalus.cat
X-WR-TIMEZONE:Europe/Madrid
DESCRIPTION:Aquesta taula està formada per tots els municipis que formen part de l’espai, el Consorci Besòs Tordera, el grup BiBio, el CEAB-CSIC, Fauna Llerona i la Generalitat de Catalunya.

URI:https://www.canovesisamalus.cat/actualitat/noticies/la-taula-de-governanca-de-lhabitats-combe-es-reuneix-per-fer-seguiment-de-levolucio-del-projecte.html
CLASS:PUBLIC
END:VEVENT
END:VCALENDAR
