BEGIN:VCALENDAR
VERSION:2.0
CALSCALE:GREGORIAN
PRODID:-//Diputació de Barcelona//DibaCMS//EN
BEGIN:VEVENT
UID:5233
DTSTAMP:20260422T222430
DTSTART:20250728T000000
DTEND:20250829T000000
SUMMARY:El nombre de naixements i la taxa de natalitat al Vallès Oriental continua a la baixa
LOCATION:
METHOD:PUBLISH
X-WR-CALNAME:canovesisamalus@canovesisamalus.cat
X-WR-TIMEZONE:Europe/Madrid
DESCRIPTION:L’Observatori-Centre d’Estudis del Consell Comarcal ha elaborat una nota informativa amb les dades provisionals que ha avançat aquest mes de juliol l’Institut d’Estadística de Catalunya sobre l’Estadística de naixements de l’any 2024 a Catalunya, comarques i municipis. També aquests ha fet difusió del  rànquing de noms més posats als nadons nascuts al país.

URI:https://www.canovesisamalus.cat/actualitat/noticies/el-nombre-de-naixements-i-la-taxa-de-natalitat-al-valles-oriental-continua-a-la-baixa.html
CLASS:PUBLIC
END:VEVENT
END:VCALENDAR
