BEGIN:VCALENDAR
VERSION:2.0
CALSCALE:GREGORIAN
PRODID:-//Diputació de Barcelona//DibaCMS//EN
BEGIN:VEVENT
UID:5234
DTSTAMP:20260422T222826
DTSTART:20250725T000000
DTEND:20250826T000000
SUMMARY:El veïnat de Can Teixidor disposarà d’un millor servei de xarxa d’aigua potable
LOCATION:
METHOD:PUBLISH
X-WR-CALNAME:canovesisamalus@canovesisamalus.cat
X-WR-TIMEZONE:Europe/Madrid
DESCRIPTION:El Govern local  posa l’atenció al veïnat de Can Teixidor per tal d’ampliar la xarxa existent  d’aigua potable.

URI:https://www.canovesisamalus.cat/actualitat/noticies/el-veinat-de-can-teixidor-disposara-dun-millor-servei-de-xarxa-daigua-potable.html
CLASS:PUBLIC
END:VEVENT
END:VCALENDAR
