BEGIN:VCALENDAR
VERSION:2.0
CALSCALE:GREGORIAN
PRODID:-//Diputació de Barcelona//DibaCMS//EN
BEGIN:VEVENT
UID:5236
DTSTAMP:20260422T233258
DTSTART:20250801T000000
DTEND:20250908T000000
SUMMARY:Aquest estiu, vine a donar sang al Vallès Oriental
LOCATION:
METHOD:PUBLISH
X-WR-CALNAME:canovesisamalus@canovesisamalus.cat
X-WR-TIMEZONE:Europe/Madrid
DESCRIPTION:Les vacances i la calor: dos factors en contra de la donació de sang.

URI:https://www.canovesisamalus.cat/actualitat/noticies/aquest-estiu-vine-a-donar-sang-al-valles-oriental.html
CLASS:PUBLIC
END:VEVENT
END:VCALENDAR
