BEGIN:VCALENDAR
VERSION:2.0
CALSCALE:GREGORIAN
PRODID:-//Diputació de Barcelona//DibaCMS//EN
BEGIN:VEVENT
UID:524
DTSTAMP:20260422T112506
DTSTART:20170415T063000
DTEND:20170511T135000
SUMMARY:Etiquetatge dels aliments
LOCATION:
METHOD:PUBLISH
X-WR-CALNAME:canovesisamalus@canovesisamalus.cat
X-WR-TIMEZONE:Europe/Madrid
DESCRIPTION:Espai informatiu sobre l’etiquetatge dels aliments

URI:https://www.canovesisamalus.cat/actualitat/noticies/etiquetatge-dels-aliments.html
CLASS:PUBLIC
END:VEVENT
END:VCALENDAR
