BEGIN:VCALENDAR
VERSION:2.0
CALSCALE:GREGORIAN
PRODID:-//Diputació de Barcelona//DibaCMS//EN
BEGIN:VEVENT
UID:5245
DTSTAMP:20260422T222842
DTSTART:20250806T000000
DTEND:20250909T000000
SUMMARY:Aprovades les bases i convocatòria dels premis Lismivo 2024
LOCATION:
METHOD:PUBLISH
X-WR-CALNAME:canovesisamalus@canovesisamalus.cat
X-WR-TIMEZONE:Europe/Madrid
DESCRIPTION:El premi té com a objectiu reconèixer i valorar públicament la tasca social d’empreses per la integració laboral de les persones amb discapacitat i la responsabilitat social corporativa durant l’any 2024. 

URI:https://www.canovesisamalus.cat/actualitat/noticies/aprovades-les-bases-i-convocatoria-dels-premis-lismivo-2024.html
CLASS:PUBLIC
END:VEVENT
END:VCALENDAR
