BEGIN:VCALENDAR
VERSION:2.0
CALSCALE:GREGORIAN
PRODID:-//Diputació de Barcelona//DibaCMS//EN
BEGIN:VEVENT
UID:5246
DTSTAMP:20260423T025044
DTSTART:20250913T220000
DTEND:20250913T233000
SUMMARY:Concert: Ruc'n'Roll
LOCATION:
METHOD:PUBLISH
X-WR-CALNAME:canovesisamalus@canovesisamalus.cat
X-WR-TIMEZONE:Europe/Madrid
DESCRIPTION:Cicle Cultural de Cànoves i Samalús 2025

URI:https://www.canovesisamalus.cat/actualitat/agenda-municipal/concert-rucnroll.html
CLASS:PUBLIC
END:VEVENT
END:VCALENDAR
