BEGIN:VCALENDAR
VERSION:2.0
CALSCALE:GREGORIAN
PRODID:-//Diputació de Barcelona//DibaCMS//EN
BEGIN:VEVENT
UID:525
DTSTAMP:20260422T112414
DTSTART:20170417T063000
DTEND:20170511T135500
SUMMARY:El comerç electrònic creix
LOCATION:
METHOD:PUBLISH
X-WR-CALNAME:canovesisamalus@canovesisamalus.cat
X-WR-TIMEZONE:Europe/Madrid
DESCRIPTION:El comerç electrònic creix amb la revolució de les plataformes en línia

URI:https://www.canovesisamalus.cat/actualitat/noticies/el-comerc-electronic-creix.html
CLASS:PUBLIC
END:VEVENT
END:VCALENDAR
