BEGIN:VCALENDAR
VERSION:2.0
CALSCALE:GREGORIAN
PRODID:-//Diputació de Barcelona//DibaCMS//EN
BEGIN:VEVENT
UID:5250
DTSTAMP:20260423T005411
DTSTART:20250823T180000
DTEND:20250823T235900
SUMMARY:Festa Major d'estiu de Samalús
LOCATION:
METHOD:PUBLISH
X-WR-CALNAME:canovesisamalus@canovesisamalus.cat
X-WR-TIMEZONE:Europe/Madrid
DESCRIPTION:Festa Major de la Mare de Déu de la Salut de Samalús
Dies 22, 23 i 24 d'agost
 

URI:https://www.canovesisamalus.cat/actualitat/agenda-municipal/5250-festa-major-destiu-de-samalus.html
CLASS:PUBLIC
END:VEVENT
END:VCALENDAR
