BEGIN:VCALENDAR
VERSION:2.0
CALSCALE:GREGORIAN
PRODID:-//Diputació de Barcelona//DibaCMS//EN
BEGIN:VEVENT
UID:5256
DTSTAMP:20260421T102831
DTSTART:20250905T100000
DTEND:20250905T130000
SUMMARY:Curs: Xarxes socials per a persones emprenedores
LOCATION:CSETC - Josep Vilaseca, 23 - Cardedeu
 
METHOD:PUBLISH
X-WR-CALNAME:canovesisamalus@canovesisamalus.cat
X-WR-TIMEZONE:Europe/Madrid
DESCRIPTION:En aquesta sessió parlarem sobre els punts forts i dèbils de cada plataforma, així com aprendrem formes realistes i personalitzades per a tenir un compte en cada plataforma, així com connectar amb la teva audiència i estratègies per a créixer. També abordarem els aspectes pràctics a tenir en compte per a la gravació de vídeos, crear stories i posts, així com la gravació, edició i publicació. 

Formadora: Caroline Franks

URI:https://www.canovesisamalus.cat/actualitat/oferta-formativa/curs-xarxes-socials-per-a-persones-emprenedores.html
CLASS:PUBLIC
END:VEVENT
END:VCALENDAR
