BEGIN:VCALENDAR
VERSION:2.0
CALSCALE:GREGORIAN
PRODID:-//Diputació de Barcelona//DibaCMS//EN
BEGIN:VEVENT
UID:5257
DTSTAMP:20260422T233713
DTSTART:20250909T100000
DTEND:20250909T120000
SUMMARY:Taller: Biaixos inconscients en el negoci
LOCATION:CSETC - Josep Vilaseca, 23 - Cardedeu 
METHOD:PUBLISH
X-WR-CALNAME:canovesisamalus@canovesisamalus.cat
X-WR-TIMEZONE:Europe/Madrid
DESCRIPTION:‘Identifica els teus biaixos inconscients’ és una formació dissenyada per ajudar les persones participants a reconèixer les influències que aquests biaixos exerceixen sobre les seves decisions diàries, tant en l'àmbit professional com personal. A través d'exemples pràctics i eines concretes, es busca conscienciar sobre l'impacte d'aquests prejudicis en la diversitat i la inclusió dins les organitzacions, i oferir estratègies per mitigar-los, promovent així unes relacions més justes i inclusives.

Pren decisions justes per impulsar la diversitat i el canvi Identifica els teus biaixos inconscients. La clau per construir connexions més justes i inclusives

Continguts clau


	Què són els biaixos inconscients?
	Com formem creences sobre altres grups?
	Biaixos al treball
	Mitigació dels biaixos al treball i a la vida personal


Formadora: Beatriz Mallen

URI:https://www.canovesisamalus.cat/actualitat/oferta-formativa/taller-biaixos-inconscients-en-el-negoci.html
CLASS:PUBLIC
END:VEVENT
END:VCALENDAR
