BEGIN:VCALENDAR
VERSION:2.0
CALSCALE:GREGORIAN
PRODID:-//Diputació de Barcelona//DibaCMS//EN
BEGIN:VEVENT
UID:5258
DTSTAMP:20260423T005144
DTSTART:20250917T100000
DTEND:20250917T130000
SUMMARY:Reducció de costos i temps amb impressió 3D: Dels prototips funcionals a peces finals
LOCATION:CSETC - Josep Vilaseca, 23 - Cardedeu 
METHOD:PUBLISH
X-WR-CALNAME:canovesisamalus@canovesisamalus.cat
X-WR-TIMEZONE:Europe/Madrid
DESCRIPTION:Curs adreçat a empreses i persones emprenedores
Objectius:
1. Comprendre com la impressió 3D pot reduir costos i temps en processos de desenvolupament i producció.
2. Conèixer els diferents tipus d’impressió 3D i materials segons l’ús (prototips o peces finals).
3. Identificar oportunitats pràctiques d’aplicació de la impressió 3D en diferents sectors (industrial, producte, salut, disseny...).
4. Distingir entre la impressió 3D per prototipat i la fabricació de peces finals: avantatges, límits i criteris de decisió.
5. Analitzar casos reals on l’ús de la impressió 3D ha optimitzat processos i estalviat recursos.
6. Reflexionar sobre quan val la pena internalitzar o externalitzar la impressió 3D.

 

URI:https://www.canovesisamalus.cat/actualitat/oferta-formativa/reduccio-de-costos-i-temps-amb-impressio-3d-dels-prototips-funcionals-a-peces-finals.html
CLASS:PUBLIC
END:VEVENT
END:VCALENDAR
