BEGIN:VCALENDAR
VERSION:2.0
CALSCALE:GREGORIAN
PRODID:-//Diputació de Barcelona//DibaCMS//EN
BEGIN:VEVENT
UID:5259
DTSTAMP:20260423T005229
DTSTART:20250917T100000
DTEND:20250917T130000
SUMMARY:Webinar: Com fer un bon ús del mailchip
LOCATION:CSETC - Josep Vilaseca, 23 - Cardedeu 
METHOD:PUBLISH
X-WR-CALNAME:canovesisamalus@canovesisamalus.cat
X-WR-TIMEZONE:Europe/Madrid
DESCRIPTION:Introducció a Mailchimp i l’email màrqueting.Gestió de contactes i audiències. Creació de campanyes i newsletters. Automatitzacions i seqüències intel·ligents.

URI:https://www.canovesisamalus.cat/actualitat/oferta-formativa/webinar-com-fer-un-bon-us-del-mailchip.html
CLASS:PUBLIC
END:VEVENT
END:VCALENDAR
