BEGIN:VCALENDAR
VERSION:2.0
CALSCALE:GREGORIAN
PRODID:-//Diputació de Barcelona//DibaCMS//EN
BEGIN:VEVENT
UID:526
DTSTAMP:20260422T141454
DTSTART:20170412T082000
DTEND:20170512T082000
SUMMARY:El Vallès avança
LOCATION:
METHOD:PUBLISH
X-WR-CALNAME:canovesisamalus@canovesisamalus.cat
X-WR-TIMEZONE:Europe/Madrid
DESCRIPTION:El Vallès Oriental disposa de bones sinèrgies que cal aprofitar per donar un millor posicionament econòmic a la comarca. 

URI:https://www.canovesisamalus.cat/actualitat/noticies/el-valles-avanca.html
CLASS:PUBLIC
END:VEVENT
END:VCALENDAR
