BEGIN:VCALENDAR
VERSION:2.0
CALSCALE:GREGORIAN
PRODID:-//Diputació de Barcelona//DibaCMS//EN
BEGIN:VEVENT
UID:5262
DTSTAMP:20260422T233323
DTSTART:20250926T100000
DTEND:20250926T130000
SUMMARY:Webinar: la IA per captar leads amb Linkedin
LOCATION:CSETC - Josep Vilaseca, 23 - Cardedeu 
METHOD:PUBLISH
X-WR-CALNAME:canovesisamalus@canovesisamalus.cat
X-WR-TIMEZONE:Europe/Madrid
DESCRIPTION:
	LinkedIn com a canal de captació B2B
	Preparar el perfil per atraure
	Identificació i segmentació de leads
	Automatitzar l’enviament de missatges i seguiment
	Crear missatges amb IA que converteixin


URI:https://www.canovesisamalus.cat/actualitat/oferta-formativa/webinar-la-ia-per-captar-leads-amb-linkedin.html
CLASS:PUBLIC
END:VEVENT
END:VCALENDAR
