BEGIN:VCALENDAR
VERSION:2.0
CALSCALE:GREGORIAN
PRODID:-//Diputació de Barcelona//DibaCMS//EN
BEGIN:VEVENT
UID:5263
DTSTAMP:20260422T205944
DTSTART:20250929T100000
DTEND:20250929T120000
SUMMARY:Taller: Fiscalitat bàsica per empendre
LOCATION:
METHOD:PUBLISH
X-WR-CALNAME:canovesisamalus@canovesisamalus.cat
X-WR-TIMEZONE:Europe/Madrid
DESCRIPTION:L'objectiu d'aquesta sessió és comprendre tot allò que les persones emprenedores han de conèixer, a fi de poder comprendre quina és la fiscalitat bàsica d'un negoci.

Formadora: Berta Santos (Tècnica de Desenvolupament Local  -  AODL)

URI:https://www.canovesisamalus.cat/actualitat/oferta-formativa/taller-fiscalitat-basica-per-empendre.html
CLASS:PUBLIC
END:VEVENT
END:VCALENDAR
