BEGIN:VCALENDAR
VERSION:2.0
CALSCALE:GREGORIAN
PRODID:-//Diputació de Barcelona//DibaCMS//EN
BEGIN:VEVENT
UID:5271
DTSTAMP:20260423T015358
DTSTART:20250825T000000
DTEND:20250916T000000
SUMMARY:Cànoves i Samalús a VOTV aquest agost
LOCATION:
METHOD:PUBLISH
X-WR-CALNAME:canovesisamalus@canovesisamalus.cat
X-WR-TIMEZONE:Europe/Madrid
DESCRIPTION:Estigues al dia del què passa al municipi aquest mes d'agost.
Especial Festa Major d'estiu de Samalús.

URI:https://www.canovesisamalus.cat/actualitat/noticies/5271-canoves-i-samalus-a-votv-aquest-agost.html
CLASS:PUBLIC
END:VEVENT
END:VCALENDAR
