BEGIN:VCALENDAR
VERSION:2.0
CALSCALE:GREGORIAN
PRODID:-//Diputació de Barcelona//DibaCMS//EN
BEGIN:VEVENT
UID:5272
DTSTAMP:20260423T004252
DTSTART:20250911T100000
DTEND:20250911T150000
SUMMARY:Diada Nacional de Catalunya
LOCATION:Plaça de Sant Muç 
METHOD:PUBLISH
X-WR-CALNAME:canovesisamalus@canovesisamalus.cat
X-WR-TIMEZONE:Europe/Madrid
DESCRIPTION:11 de setembre

URI:https://www.canovesisamalus.cat/actualitat/agenda-municipal/5272-diada-nacional-de-catalunya.html
CLASS:PUBLIC
END:VEVENT
END:VCALENDAR
