BEGIN:VCALENDAR
VERSION:2.0
CALSCALE:GREGORIAN
PRODID:-//Diputació de Barcelona//DibaCMS//EN
BEGIN:VEVENT
UID:5279
DTSTAMP:20260423T003916
DTSTART:20250905T000000
DTEND:20250930T000000
SUMMARY:Publicació resolucions beques curs 2025-26
LOCATION:
METHOD:PUBLISH
X-WR-CALNAME:canovesisamalus@canovesisamalus.cat
X-WR-TIMEZONE:Europe/Madrid
DESCRIPTION:
URI:https://www.canovesisamalus.cat/actualitat/noticies/publicacio-resolucions-beques-curs-2025-26.html
CLASS:PUBLIC
END:VEVENT
END:VCALENDAR
