BEGIN:VCALENDAR
VERSION:2.0
CALSCALE:GREGORIAN
PRODID:-//Diputació de Barcelona//DibaCMS//EN
BEGIN:VEVENT
UID:528
DTSTAMP:20260422T125406
DTSTART:20170413T091000
DTEND:20170513T091000
SUMMARY:L'ajuntament inverteix en una nova tanca
LOCATION:
METHOD:PUBLISH
X-WR-CALNAME:canovesisamalus@canovesisamalus.cat
X-WR-TIMEZONE:Europe/Madrid
DESCRIPTION:A les instal·lacions esportives que hi ha al Mirador del Montseny hi havia una tanca metàl·lica que presentava un estat lamentable.  

URI:https://www.canovesisamalus.cat/actualitat/noticies/lajuntament-inverteix-en-una-nova-tanca.html
CLASS:PUBLIC
END:VEVENT
END:VCALENDAR
