BEGIN:VCALENDAR
VERSION:2.0
CALSCALE:GREGORIAN
PRODID:-//Diputació de Barcelona//DibaCMS//EN
BEGIN:VEVENT
UID:5283
DTSTAMP:20260422T221607
DTSTART:20251008T120000
DTEND:20251008T130000
SUMMARY:Visita de l'Oficina d'Informació al Consumidor (OMIC)
LOCATION:Entrada de l'Ajuntament 
METHOD:PUBLISH
X-WR-CALNAME:canovesisamalus@canovesisamalus.cat
X-WR-TIMEZONE:Europe/Madrid
DESCRIPTION:El servei de l'Oficina Provincial d'Informació al Consumidor (OPIC) està destinat als ajuntaments que no disposen de serveis municipals de consum i té com a finalitat bàsica defensar els consumidors i els seus drets.

URI:https://www.canovesisamalus.cat/actualitat/agenda-municipal/5283-visita-de-loficina-dinformacio-al-consumidor-omic.html
CLASS:PUBLIC
END:VEVENT
END:VCALENDAR
