BEGIN:VCALENDAR
VERSION:2.0
CALSCALE:GREGORIAN
PRODID:-//Diputació de Barcelona//DibaCMS//EN
BEGIN:VEVENT
UID:5293
DTSTAMP:20260422T210115
DTSTART:20251005T210000
DTEND:20251009T000000
SUMMARY:Nova visita de l'Oficina Mòbil d’Informació al Consumidor (OMIC)
LOCATION:
METHOD:PUBLISH
X-WR-CALNAME:canovesisamalus@canovesisamalus.cat
X-WR-TIMEZONE:Europe/Madrid
DESCRIPTION:
	Aquest dimecres 8 d’octubre torna l’Oficina Mòbil d’Informació al Consumidor.  
	Emplaçada a l’entrada de l’Ajuntament, els tècnics de la Diputació de Barcelona atendran gratuïtament de 12 a 13,00 hores als ciutadans en totes aquelles qüestions relacionades amb l’àmbit dels drets dels consumidors, etiquetatge i garanties de productes, compra i lloguer d’habitatges, serveis bancaris, assegurances, compra-venda de vehicles, serveis post-venda, compres fora d’establiment, serveis turístics, etc..


 

URI:https://www.canovesisamalus.cat/actualitat/noticies/nova-visita-de-loficina-mobil-dinformacio-al-consumidor-omic.html
CLASS:PUBLIC
END:VEVENT
END:VCALENDAR
