BEGIN:VCALENDAR
VERSION:2.0
CALSCALE:GREGORIAN
PRODID:-//Diputació de Barcelona//DibaCMS//EN
BEGIN:VEVENT
UID:5300
DTSTAMP:20260422T234731
DTSTART:20250923T000000
DTEND:20251023T000000
SUMMARY:TurismeVallès participa al Festival Sea Otter Europe 2025
LOCATION:
METHOD:PUBLISH
X-WR-CALNAME:canovesisamalus@canovesisamalus.cat
X-WR-TIMEZONE:Europe/Madrid
DESCRIPTION:El Sea Otter és un dels festivals de ciclisme més grans del món, que té l’origen als Estats Units.

URI:https://www.canovesisamalus.cat/actualitat/noticies/turismevalles-participa-al-festival-sea-otter-europe-2025.html
CLASS:PUBLIC
END:VEVENT
END:VCALENDAR
