BEGIN:VCALENDAR
VERSION:2.0
CALSCALE:GREGORIAN
PRODID:-//Diputació de Barcelona//DibaCMS//EN
BEGIN:VEVENT
UID:5301
DTSTAMP:20260421T102947
DTSTART:20250925T000000
DTEND:20251014T000000
SUMMARY:S’obre el termini per presentar candidatures als Premis LISMIVO 2024 
LOCATION:
METHOD:PUBLISH
X-WR-CALNAME:canovesisamalus@canovesisamalus.cat
X-WR-TIMEZONE:Europe/Madrid
DESCRIPTION:
	El premi té com a objectiu reconèixer i valorar públicament la tasca social d’empreses per la integració laboral de les persones amb discapacitat i la responsabilitat social corporativa durant l’any 2024. 
	Les candidatures de la IX edició dels Premis LISMIVO 2024 podran presentar-se fins al 13 d’octubre.
	 


URI:https://www.canovesisamalus.cat/actualitat/noticies/sobre-el-termini-per-presentar-candidatures-als-premis-lismivo-2024.html
CLASS:PUBLIC
END:VEVENT
END:VCALENDAR
