BEGIN:VCALENDAR
VERSION:2.0
CALSCALE:GREGORIAN
PRODID:-//Diputació de Barcelona//DibaCMS//EN
BEGIN:VEVENT
UID:5307
DTSTAMP:20260422T221940
DTSTART:20251002T000000
DTEND:20251006T000000
SUMMARY:El Vallès Oriental participa a la 10ª edició de Benvinguts a Pagès amb 6 experiències rurals
LOCATION:
METHOD:PUBLISH
X-WR-CALNAME:canovesisamalus@canovesisamalus.cat
X-WR-TIMEZONE:Europe/Madrid
DESCRIPTION:
	Enguany, la festa celebra una dècada com a oportunitat d’apropar als veïns i veïnes el sector primari a través de visites guiades a pagès arreu de Catalunya. 
	Cap de setmana del 4 i 5 d'octubre.


URI:https://www.canovesisamalus.cat/actualitat/noticies/el-valles-oriental-participa-a-la-10a-edicio-de-benvinguts-a-pages-amb-6-experiencies-rurals.html
CLASS:PUBLIC
END:VEVENT
END:VCALENDAR
