BEGIN:VCALENDAR
VERSION:2.0
CALSCALE:GREGORIAN
PRODID:-//Diputació de Barcelona//DibaCMS//EN
BEGIN:VEVENT
UID:5313
DTSTAMP:20260422T222021
DTSTART:20250926T140000
DTEND:20251026T000000
SUMMARY:El programa educatiu “Descobreix el riu” compleix 30 anys
LOCATION:
METHOD:PUBLISH
X-WR-CALNAME:canovesisamalus@canovesisamalus.cat
X-WR-TIMEZONE:Europe/Madrid
DESCRIPTION:
	La iniciativa va néixer el curs 1995-1996 de la mà del Consorci Besòs Tordera sota el nom “Apropa’t al Besòs”
	Des d’aleshores, han passat per aquest programa més de 142.000 estudiants


URI:https://www.canovesisamalus.cat/actualitat/noticies/el-programa-educatiu-descobreix-el-riu-compleix-30-anys.html
CLASS:PUBLIC
END:VEVENT
END:VCALENDAR
