BEGIN:VCALENDAR
VERSION:2.0
CALSCALE:GREGORIAN
PRODID:-//Diputació de Barcelona//DibaCMS//EN
BEGIN:VEVENT
UID:5314
DTSTAMP:20260422T221929
DTSTART:20250929T000000
DTEND:20251026T000000
SUMMARY:Lliurament dels Premis del Concurs de Dibuix “Descobreix el riu” 2024-25
LOCATION:
METHOD:PUBLISH
X-WR-CALNAME:canovesisamalus@canovesisamalus.cat
X-WR-TIMEZONE:Europe/Madrid
DESCRIPTION:
	La Fundació RIVUS lliura els Premis del Concurs de Dibuix “Descobreix el riu” 2024-2025, dedicat a la salamandra.
	El dibuix de Roc Grau Molons, de l’Institut Escola la Tordera, serà la nova imatge del programa educatiu per al curs 2025-2026.


URI:https://www.canovesisamalus.cat/actualitat/noticies/lliurament-dels-premis-del-concurs-de-dibuix-descobreix-el-riu-2024-25.html
CLASS:PUBLIC
END:VEVENT
END:VCALENDAR
