BEGIN:VCALENDAR
VERSION:2.0
CALSCALE:GREGORIAN
PRODID:-//Diputació de Barcelona//DibaCMS//EN
BEGIN:VEVENT
UID:5315
DTSTAMP:20260422T210016
DTSTART:20251003T000000
DTEND:20251006T000000
SUMMARY:25 anys fent del passat iber una aventura!
LOCATION:
METHOD:PUBLISH
X-WR-CALNAME:canovesisamalus@canovesisamalus.cat
X-WR-TIMEZONE:Europe/Madrid
DESCRIPTION:El Cap de Setmana Ibèric celebra enguany un aniversari molt especial:
25 edicions descobrint la fascinant cultura dels ibers amb activitats per a tota la família.

URI:https://www.canovesisamalus.cat/actualitat/noticies/25-anys-fent-del-passat-iber-una-aventura.html
CLASS:PUBLIC
END:VEVENT
END:VCALENDAR
