BEGIN:VCALENDAR
VERSION:2.0
CALSCALE:GREGORIAN
PRODID:-//Diputació de Barcelona//DibaCMS//EN
BEGIN:VEVENT
UID:5321
DTSTAMP:20260422T233156
DTSTART:20251006T000000
DTEND:20251201T000000
SUMMARY:I tu, com invertiries 15.000€ pel teu municipi? 
LOCATION:
METHOD:PUBLISH
X-WR-CALNAME:canovesisamalus@canovesisamalus.cat
X-WR-TIMEZONE:Europe/Madrid
DESCRIPTION:
	L’Ajuntament de Cànoves i Samalús segueix oferint a la ciutadania la participació als Pressupostos Participatius.
	El període de presentació de propostes es determina entre el 3 i el 30 d’octubre.
	La votació es podrà fer del 17 al 30 de novembre.


URI:https://www.canovesisamalus.cat/actualitat/noticies/i-tu-com-invertiries-15000eur-pel-teu-municipi.html
CLASS:PUBLIC
END:VEVENT
END:VCALENDAR
