BEGIN:VCALENDAR
VERSION:2.0
CALSCALE:GREGORIAN
PRODID:-//Diputació de Barcelona//DibaCMS//EN
BEGIN:VEVENT
UID:5331
DTSTAMP:20260423T220909
DTSTART:20251010T000000
DTEND:20251108T000000
SUMMARY:Més de mig miler de mares han donat llet materna aquest 2025
LOCATION:
METHOD:PUBLISH
X-WR-CALNAME:canovesisamalus@canovesisamalus.cat
X-WR-TIMEZONE:Europe/Madrid
DESCRIPTION:La Setmana Europea de la Lactància Materna, del 6 al 12 d’octubre, vol donar més visibilitat a la donació de llet materna.

URI:https://www.canovesisamalus.cat/actualitat/noticies/mes-de-mig-miler-de-mares-han-donat-llet-materna-aquest-2025.html
CLASS:PUBLIC
END:VEVENT
END:VCALENDAR
