BEGIN:VCALENDAR
VERSION:2.0
CALSCALE:GREGORIAN
PRODID:-//Diputació de Barcelona//DibaCMS//EN
BEGIN:VEVENT
UID:5332
DTSTAMP:20260422T221450
DTSTART:20251009T120000
DTEND:20251108T000000
SUMMARY:Prop de 500 persones participen en el cap de setmana de Benvingut a Pagès al Vallès Oriental
LOCATION:
METHOD:PUBLISH
X-WR-CALNAME:canovesisamalus@canovesisamalus.cat
X-WR-TIMEZONE:Europe/Madrid
DESCRIPTION:Es tracta d’una iniciativa de la Generalitat de Catalunya, que al Vallès Oriental, coordina el Consell Comarcal. 

URI:https://www.canovesisamalus.cat/actualitat/noticies/prop-de-500-persones-participen-en-el-cap-de-setmana-de-benvingut-a-pages-al-valles-oriental.html
CLASS:PUBLIC
END:VEVENT
END:VCALENDAR
