BEGIN:VCALENDAR
VERSION:2.0
CALSCALE:GREGORIAN
PRODID:-//Diputació de Barcelona//DibaCMS//EN
BEGIN:VEVENT
UID:5335
DTSTAMP:20260423T220934
DTSTART:20251015T000000
DTEND:20251117T000000
SUMMARY:Una cinquantena de persones assisteixen al segon taller del projecte Med-IREN dedicat a l’aigua regenerada celebrat a Granollers
LOCATION:
METHOD:PUBLISH
X-WR-CALNAME:canovesisamalus@canovesisamalus.cat
X-WR-TIMEZONE:Europe/Madrid
DESCRIPTION:La jornada posa en valor els projectes i iniciatives que impulsen l’ús de l’aigua regenerada com a eina clau per a la resiliència hídrica davant el canvi climàtic.

URI:https://www.canovesisamalus.cat/actualitat/noticies/una-cinquantena-de-persones-assisteixen-al-segon-taller-del-projecte-med-iren-dedicat-a-laigua-regenerada-celebrat-a-granollers.html
CLASS:PUBLIC
END:VEVENT
END:VCALENDAR
