BEGIN:VCALENDAR
VERSION:2.0
CALSCALE:GREGORIAN
PRODID:-//Diputació de Barcelona//DibaCMS//EN
BEGIN:VEVENT
UID:5337
DTSTAMP:20260423T221558
DTSTART:20251017T000000
DTEND:20251117T000000
SUMMARY:El Banc de Sang fa crida a fer una donació de sang durant la tardor 
LOCATION:
METHOD:PUBLISH
X-WR-CALNAME:canovesisamalus@canovesisamalus.cat
X-WR-TIMEZONE:Europe/Madrid
DESCRIPTION:
	Pots donar sang a diferents municipis del Vallès Oriental i col·laborar a recuperar les reserves
	El Banc de Sang insta els i les donants a afrontar l’estació de la tardor amb una donació de sang
	Les reserves de sang estan més baixes del que sol ser habitual en aquesta època: enguany costa recuperar la davallada de l’estiu
	Per anar a donar només cal demanar cita al web www.bancsang.net/donar i localitzar el punt de donació més proper 
	Els homes poden donar fins a quatres vegades l’any i les dones, tres


URI:https://www.canovesisamalus.cat/actualitat/noticies/el-banc-de-sang-fa-crida-a-fer-una-donacio-de-sang-durant-la-tardor.html
CLASS:PUBLIC
END:VEVENT
END:VCALENDAR
