BEGIN:VCALENDAR
VERSION:2.0
CALSCALE:GREGORIAN
PRODID:-//Diputació de Barcelona//DibaCMS//EN
BEGIN:VEVENT
UID:5339
DTSTAMP:20260423T221501
DTSTART:20251020T000000
DTEND:20251202T000000
SUMMARY:Neix “La Festa de la Queixalada” per impulsar el producte local del Vallès Oriental, del Vallès Occidental i del Maresme
LOCATION:
METHOD:PUBLISH
X-WR-CALNAME:canovesisamalus@canovesisamalus.cat
X-WR-TIMEZONE:Europe/Madrid
DESCRIPTION:Serà els dies 30 de novembre i 1 de desembre a l’Espai Roca Umbert de Granollers amb l’objectiu de promocionar els productes de les tres comarques. 

URI:https://www.canovesisamalus.cat/actualitat/noticies/neix-la-festa-de-la-queixalada-per-impulsar-el-producte-local-del-valles-oriental-del-valles-occidental-i-del-maresme.html
CLASS:PUBLIC
END:VEVENT
END:VCALENDAR
