BEGIN:VCALENDAR
VERSION:2.0
CALSCALE:GREGORIAN
PRODID:-//Diputació de Barcelona//DibaCMS//EN
BEGIN:VEVENT
UID:5360
DTSTAMP:20260423T221910
DTSTART:20251027T000000
DTEND:20251201T000000
SUMMARY:Un treball sobre la merla d’aigua i un altre sobre fòsfor en aigües residuals guanyen ex aequo el X Premi de Treballs Acadèmics Sergi Mingote 
LOCATION:
METHOD:PUBLISH
X-WR-CALNAME:canovesisamalus@canovesisamalus.cat
X-WR-TIMEZONE:Europe/Madrid
DESCRIPTION:En total, s’han distingit sis treballs procedents d’instituts de Barcelona, Flix, Sentmenat, Taradell i Valls.

URI:https://www.canovesisamalus.cat/actualitat/noticies/un-treball-sobre-la-merla-daigua-i-un-altre-sobre-fosfor-en-aigues-residuals-guanyen-ex-aequo-el-x-premi-de-treballs-academics-sergi-mingote.html
CLASS:PUBLIC
END:VEVENT
END:VCALENDAR
