BEGIN:VCALENDAR
VERSION:2.0
CALSCALE:GREGORIAN
PRODID:-//Diputació de Barcelona//DibaCMS//EN
BEGIN:VEVENT
UID:5365
DTSTAMP:20260423T222000
DTSTART:20251031T000000
DTEND:20251104T000000
SUMMARY:ALERTA: Prova d'enviament d'alerta al mòvil el proper dilluns dia 3 de novembre
LOCATION:
METHOD:PUBLISH
X-WR-CALNAME:canovesisamalus@canovesisamalus.cat
X-WR-TIMEZONE:Europe/Madrid
DESCRIPTION:
	El proper dilluns 3 de novembre es portarà a terme a Cànoves i Samalús una prova d'enviament massiu d'alertes de Protecció Civil al mòbil per verificar el seu funcionament.
	La prova començarà a realitzar-se a partir de les 10 del matí.
	Per tal de tenir millors resultats, es demana a la ciutadania que empleni una enquesta per valorar la seva experiència.


 

URI:https://www.canovesisamalus.cat/actualitat/noticies/alerta-prova-denviament-dalerta-al-movil-el-proper-dilluns-dia-3-de-novembre.html
CLASS:PUBLIC
END:VEVENT
END:VCALENDAR
