BEGIN:VCALENDAR
VERSION:2.0
CALSCALE:GREGORIAN
PRODID:-//Diputació de Barcelona//DibaCMS//EN
BEGIN:VEVENT
UID:5366
DTSTAMP:20260419T145647
DTSTART:20251030T000000
DTEND:20251129T000000
SUMMARY:La Regió Barcelona Metropolitana Nord inicia una campanya per donar a conèixer els dispositius d'urgències al Vallès Oriental
LOCATION:
METHOD:PUBLISH
X-WR-CALNAME:canovesisamalus@canovesisamalus.cat
X-WR-TIMEZONE:Europe/Madrid
DESCRIPTION:L’objectiu és que la ciutadania sàpiga que les dolències menys greus es poden atendre als CUAP Granollers i Baix Vallès

URI:https://www.canovesisamalus.cat/actualitat/noticies/la-regio-barcelona-metropolitana-nord-inicia-una-campanya-per-donar-a-coneixer-els-dispositius-durgencies-al-valles-oriental.html
CLASS:PUBLIC
END:VEVENT
END:VCALENDAR
