BEGIN:VCALENDAR
VERSION:2.0
CALSCALE:GREGORIAN
PRODID:-//Diputació de Barcelona//DibaCMS//EN
BEGIN:VEVENT
UID:537
DTSTAMP:20260424T124704
DTSTART:20170421T063000
DTEND:20170520T101500
SUMMARY:Casa nostra casa vostra
LOCATION:
METHOD:PUBLISH
X-WR-CALNAME:canovesisamalus@canovesisamalus.cat
X-WR-TIMEZONE:Europe/Madrid
DESCRIPTION:Aquesta campanya neix el 9 de maig de 2016 arran d’un grup de persones independents que treballen en el món de la comunicació i que  coincidien als camps de refugiats sirians.

URI:https://www.canovesisamalus.cat/actualitat/noticies/casa-nostra-casa-vostra.html
CLASS:PUBLIC
END:VEVENT
END:VCALENDAR
