BEGIN:VCALENDAR
VERSION:2.0
CALSCALE:GREGORIAN
PRODID:-//Diputació de Barcelona//DibaCMS//EN
BEGIN:VEVENT
UID:5370
DTSTAMP:20260423T175838
DTSTART:20251125T000000
DTEND:20251130T000000
SUMMARY:25N: Dia Internacional per a l'Eliminació de la Violència envers les Dones
LOCATION:
METHOD:PUBLISH
X-WR-CALNAME:canovesisamalus@canovesisamalus.cat
X-WR-TIMEZONE:Europe/Madrid
DESCRIPTION:El Dia Internacional per a l'Eliminació de la Violència envers les Dones se celebra anualment el 25 de novembre per denunciar les violències que s’exerceixen sobre les dones en tot el món i reclamar polítiques en tots els països per a la seva erradicació.

URI:https://www.canovesisamalus.cat/actualitat/noticies/5370-25n-dia-internacional-per-a-leliminacio-de-la-violencia-envers-les-dones.html
CLASS:PUBLIC
END:VEVENT
END:VCALENDAR
