BEGIN:VCALENDAR
VERSION:2.0
CALSCALE:GREGORIAN
PRODID:-//Diputació de Barcelona//DibaCMS//EN
BEGIN:VEVENT
UID:5386
DTSTAMP:20260423T175817
DTSTART:20251107T000000
DTEND:20251218T000000
SUMMARY:El Vallès Oriental impulsa el networking “Turisme que connecta persones” per reforçar les aliances del sector turístic
LOCATION:
METHOD:PUBLISH
X-WR-CALNAME:canovesisamalus@canovesisamalus.cat
X-WR-TIMEZONE:Europe/Madrid
DESCRIPTION:Serà el 17 de novembre al Campus Belloch – Châteauform (Parc de Belloch, C-251, Km 5,6, La Roca del Vallès).

URI:https://www.canovesisamalus.cat/actualitat/noticies/el-valles-oriental-impulsa-el-networking-turisme-que-connecta-persones-per-reforcar-les-aliances-del-sector-turistic.html
CLASS:PUBLIC
END:VEVENT
END:VCALENDAR
