BEGIN:VCALENDAR
VERSION:2.0
CALSCALE:GREGORIAN
PRODID:-//Diputació de Barcelona//DibaCMS//EN
BEGIN:VEVENT
UID:539
DTSTAMP:20260422T125544
DTSTART:20170421T170000
DTEND:20170421T183000
SUMMARY:Vine al teatre!
LOCATION:
METHOD:PUBLISH
X-WR-CALNAME:canovesisamalus@canovesisamalus.cat
X-WR-TIMEZONE:Europe/Madrid
DESCRIPTION:LES 4 ESTACIONS presenta...

URI:https://www.canovesisamalus.cat/actualitat/agenda-municipal/vine-al-teatre.html
CLASS:PUBLIC
END:VEVENT
END:VCALENDAR
