BEGIN:VCALENDAR
VERSION:2.0
CALSCALE:GREGORIAN
PRODID:-//Diputació de Barcelona//DibaCMS//EN
BEGIN:VEVENT
UID:5390
DTSTAMP:20260423T192100
DTSTART:20251111T000000
DTEND:20251211T000000
SUMMARY:El Mercat Boig torna a Cànoves amb una gran varietat de productes
LOCATION:
METHOD:PUBLISH
X-WR-CALNAME:canovesisamalus@canovesisamalus.cat
X-WR-TIMEZONE:Europe/Madrid
DESCRIPTION:L’edició de tardor del Mercat Boig de Cànoves i Samalús ha tornat a repetir èxit de participació amb gairebé quaranta paradetes. Una activitat que busca potenciar l’economia circular, i donar una segona oportunitat als objectes oblidats de casa.

URI:https://www.canovesisamalus.cat/actualitat/noticies/el-mercat-boig-torna-a-canoves-amb-una-gran-varietat-de-productes.html
CLASS:PUBLIC
END:VEVENT
END:VCALENDAR
