BEGIN:VCALENDAR
VERSION:2.0
CALSCALE:GREGORIAN
PRODID:-//Diputació de Barcelona//DibaCMS//EN
BEGIN:VEVENT
UID:5400
DTSTAMP:20260422T170354
DTSTART:20251226T193000
DTEND:20251226T203000
SUMMARY:Concert de Sant Esteve
LOCATION: 08445 Cànoves i Samalús
METHOD:PUBLISH
X-WR-CALNAME:canovesisamalus@canovesisamalus.cat
X-WR-TIMEZONE:Europe/Madrid
DESCRIPTION:Actes inclosos en la programació de les festes nadalenques a Cànoves i Samalús.

URI:https://www.canovesisamalus.cat/actualitat/agenda-municipal/5400-concert-de-sant-esteve.html
CLASS:PUBLIC
END:VEVENT
END:VCALENDAR
