BEGIN:VCALENDAR
VERSION:2.0
CALSCALE:GREGORIAN
PRODID:-//Diputació de Barcelona//DibaCMS//EN
BEGIN:VEVENT
UID:5403
DTSTAMP:20260422T142154
DTSTART:20260105T180000
DTEND:20260105T203000
SUMMARY:Cavalcada de SM Els Reis d’Orient 
LOCATION:
METHOD:PUBLISH
X-WR-CALNAME:canovesisamalus@canovesisamalus.cat
X-WR-TIMEZONE:Europe/Madrid
DESCRIPTION:Actes inclosos en la programació de les festes nadalenques a Cànoves i Samalús.

URI:https://www.canovesisamalus.cat/actualitat/agenda-municipal/5403-cavalcada-de-sm-els-reis-dorient-.html
CLASS:PUBLIC
END:VEVENT
END:VCALENDAR
