BEGIN:VCALENDAR
VERSION:2.0
CALSCALE:GREGORIAN
PRODID:-//Diputació de Barcelona//DibaCMS//EN
BEGIN:VEVENT
UID:5416
DTSTAMP:20260423T175852
DTSTART:20251114T000000
DTEND:20251214T000000
SUMMARY:Situació epidemiològica vers la influença aviària
LOCATION:
METHOD:PUBLISH
X-WR-CALNAME:canovesisamalus@canovesisamalus.cat
X-WR-TIMEZONE:Europe/Madrid
DESCRIPTION:S’inicia el període de més alt risc d’introducció del virus al territori.

URI:https://www.canovesisamalus.cat/actualitat/noticies/situacio-epidemiologica-vers-la-influenca-aviaria.html
CLASS:PUBLIC
END:VEVENT
END:VCALENDAR
